BEGIN:VCALENDAR
VERSION:2.0
PRODID:-//Společenský dům - ECPv6.3.7//NONSGML v1.0//EN
CALSCALE:GREGORIAN
METHOD:PUBLISH
X-ORIGINAL-URL:https://www.spolecenskydum-radimer.cz
X-WR-CALDESC:Akce na Společenský dům
REFRESH-INTERVAL;VALUE=DURATION:PT1H
X-Robots-Tag:noindex
X-PUBLISHED-TTL:PT1H
BEGIN:VTIMEZONE
TZID:UTC
BEGIN:STANDARD
TZOFFSETFROM:+0000
TZOFFSETTO:+0000
TZNAME:UTC
DTSTART:20260101T000000
END:STANDARD
END:VTIMEZONE
BEGIN:VEVENT
DTSTART;VALUE=DATE:20260131
DTEND;VALUE=DATE:20260201
DTSTAMP:20260425T114914
CREATED:20251109T172555Z
LAST-MODIFIED:20251109T172555Z
UID:1065-1769817600-1769903999@www.spolecenskydum-radimer.cz
SUMMARY:Salonék soukromá akce
DESCRIPTION:
URL:https://www.spolecenskydum-radimer.cz/event/salonek-soukroma-akce-2/
END:VEVENT
END:VCALENDAR