BEGIN:VCALENDAR
VERSION:2.0
PRODID:-//Společenský dům - ECPv6.3.7//NONSGML v1.0//EN
CALSCALE:GREGORIAN
METHOD:PUBLISH
X-ORIGINAL-URL:https://www.spolecenskydum-radimer.cz
X-WR-CALDESC:Akce na Společenský dům
REFRESH-INTERVAL;VALUE=DURATION:PT1H
X-Robots-Tag:noindex
X-PUBLISHED-TTL:PT1H
BEGIN:VTIMEZONE
TZID:UTC
BEGIN:STANDARD
TZOFFSETFROM:+0000
TZOFFSETTO:+0000
TZNAME:UTC
DTSTART:20260101T000000
END:STANDARD
END:VTIMEZONE
BEGIN:VEVENT
DTSTART;TZID=UTC:20260228T200000
DTEND;TZID=UTC:20260301T020000
DTSTAMP:20260425T101843
CREATED:20250822T080225Z
LAST-MODIFIED:20251013T160419Z
UID:765-1772308800-1772330400@www.spolecenskydum-radimer.cz
SUMMARY:Ples městyse Radiměř
DESCRIPTION:
URL:https://www.spolecenskydum-radimer.cz/event/ples-mestyse-radimer-2/
CATEGORIES:Kulturní akce
END:VEVENT
END:VCALENDAR