BEGIN:VCALENDAR
VERSION:2.0
PRODID:-//Společenský dům - ECPv6.3.7//NONSGML v1.0//EN
CALSCALE:GREGORIAN
METHOD:PUBLISH
X-WR-CALNAME:Společenský dům
X-ORIGINAL-URL:https://www.spolecenskydum-radimer.cz
X-WR-CALDESC:Akce na Společenský dům
REFRESH-INTERVAL;VALUE=DURATION:PT1H
X-Robots-Tag:noindex
X-PUBLISHED-TTL:PT1H
BEGIN:VTIMEZONE
TZID:UTC
BEGIN:STANDARD
TZOFFSETFROM:+0000
TZOFFSETTO:+0000
TZNAME:UTC
DTSTART:20260101T000000
END:STANDARD
END:VTIMEZONE
BEGIN:VEVENT
DTSTART;TZID=UTC:20260312T170000
DTEND;TZID=UTC:20260312T190000
DTSTAMP:20260425T101700
CREATED:20260206T085146Z
LAST-MODIFIED:20260309T152004Z
UID:1162-1773334800-1773342000@www.spolecenskydum-radimer.cz
SUMMARY:Školení řidičů
DESCRIPTION:🚗 ŠKOLENÍ ŘIDIČŮ 🚦\nŘidičák máme\, ale jistota se hodí!\nZnačky se mění\, předpisy občas taky… a kruháče? Ty tu s námi zůstaly 😄\nProto vás zveme na nereferenční školení řidičů\, kde si v klidu a bez stresu osvěžíte dopravní předpisy.\n📅 Čtvrtek 12. března\n🕔 od 17:00\n📍 salonek Společenského domu\n✔️ bez zkoušení\n✔️ bez stresu\n✔️ bez blikajícího instruktora\n✔️ srozumitelně a přehledně\n✔️ prostor na dotazy\nŠkolení nikomu neublíží – a někdy může i zachránit body 😉\n💸 Vstupné dobrovolné\nTěšíme se na vás! 🚘✨\nTato akce je pořádána za podpory městyse Radiměř
URL:https://www.spolecenskydum-radimer.cz/event/skoleni-ridicu/
END:VEVENT
END:VCALENDAR