BEGIN:VCALENDAR
VERSION:2.0
PRODID:-//Společenský dům - ECPv6.3.7//NONSGML v1.0//EN
CALSCALE:GREGORIAN
METHOD:PUBLISH
X-ORIGINAL-URL:https://www.spolecenskydum-radimer.cz
X-WR-CALDESC:Akce na Společenský dům
REFRESH-INTERVAL;VALUE=DURATION:PT1H
X-Robots-Tag:noindex
X-PUBLISHED-TTL:PT1H
BEGIN:VTIMEZONE
TZID:UTC
BEGIN:STANDARD
TZOFFSETFROM:+0000
TZOFFSETTO:+0000
TZNAME:UTC
DTSTART:20260101T000000
END:STANDARD
END:VTIMEZONE
BEGIN:VEVENT
DTSTART;TZID=UTC:20260321T150000
DTEND;TZID=UTC:20260321T200000
DTSTAMP:20260425T101845
CREATED:20260206T084726Z
LAST-MODIFIED:20260206T084737Z
UID:1158-1774105200-1774123200@www.spolecenskydum-radimer.cz
SUMMARY:Vinný košt v Radiměři
DESCRIPTION:🍷 VINNÝ KOŠT V RADIMĚŘI 🍷\nZveme vás na příjemné odpoledne plné dobrého vína\, hudby a pohody.\n📅 21. 3. 2026\n🕒 od 15:00 hodin\n📍 Společenský dům Radiměř\n🍇 Vinařství Jan Polehňa\n🎻 Cimbálová muzika\n💰 Vstupné: 450 Kč\nV ceně vstupného:\n✔️ komentovaná degustace\n✔️ 10 vzorků vína\n✔️ malé občerstvení\n📞 Rezervace nutná:\np. Klofandová\n☎️ 739 079 379\nTěšíme se na společně strávené chvíle u sklenky dobrého vína 🍷✨
URL:https://www.spolecenskydum-radimer.cz/event/vinny-kost-v-radimeri/
LOCATION:Společenský dům Radiměř\, Radiměř 515\, Radiměř\, 569 07
ORGANIZER;CN="Technick%C3%A9 slu%C5%BEby M%C4%9Bstyse Radim%C4%9B%C5%99":MAILTO:info@spolecenskydum-radimer.cz
END:VEVENT
END:VCALENDAR