BEGIN:VCALENDAR
VERSION:2.0
PRODID:-//Společenský dům - ECPv6.3.7//NONSGML v1.0//EN
CALSCALE:GREGORIAN
METHOD:PUBLISH
X-ORIGINAL-URL:https://www.spolecenskydum-radimer.cz
X-WR-CALDESC:Akce na Společenský dům
REFRESH-INTERVAL;VALUE=DURATION:PT1H
X-Robots-Tag:noindex
X-PUBLISHED-TTL:PT1H
BEGIN:VTIMEZONE
TZID:UTC
BEGIN:STANDARD
TZOFFSETFROM:+0000
TZOFFSETTO:+0000
TZNAME:UTC
DTSTART:20260101T000000
END:STANDARD
END:VTIMEZONE
BEGIN:VEVENT
DTSTART;TZID=UTC:20260328T150000
DTEND;TZID=UTC:20260328T190000
DTSTAMP:20260425T101905
CREATED:20251109T173422Z
LAST-MODIFIED:20260206T083526Z
UID:1079-1774710000-1774724400@www.spolecenskydum-radimer.cz
SUMMARY:Maškarní karneval pro děti
DESCRIPTION:
URL:https://www.spolecenskydum-radimer.cz/event/maskarni-karneval-pro-deti-2/
END:VEVENT
END:VCALENDAR