BEGIN:VCALENDAR
VERSION:2.0
PRODID:-//Společenský dům - ECPv6.3.7//NONSGML v1.0//EN
CALSCALE:GREGORIAN
METHOD:PUBLISH
X-WR-CALNAME:Společenský dům
X-ORIGINAL-URL:https://www.spolecenskydum-radimer.cz
X-WR-CALDESC:Akce na Společenský dům
REFRESH-INTERVAL;VALUE=DURATION:PT1H
X-Robots-Tag:noindex
X-PUBLISHED-TTL:PT1H
BEGIN:VTIMEZONE
TZID:UTC
BEGIN:STANDARD
TZOFFSETFROM:+0000
TZOFFSETTO:+0000
TZNAME:UTC
DTSTART:20260101T000000
END:STANDARD
END:VTIMEZONE
BEGIN:VEVENT
DTSTART;VALUE=DATE:20260606
DTEND;VALUE=DATE:20260607
DTSTAMP:20260425T114733
CREATED:20260206T084027Z
LAST-MODIFIED:20260206T084027Z
UID:1156-1780704000-1780790399@www.spolecenskydum-radimer.cz
SUMMARY:Soukromá akce salónek Svatba
DESCRIPTION:
URL:https://www.spolecenskydum-radimer.cz/event/soukroma-akce-salonek-svatba-3/
END:VEVENT
END:VCALENDAR