BEGIN:VCALENDAR
VERSION:2.0
PRODID:-//Společenský dům - ECPv6.3.7//NONSGML v1.0//EN
CALSCALE:GREGORIAN
METHOD:PUBLISH
X-WR-CALNAME:Společenský dům
X-ORIGINAL-URL:https://www.spolecenskydum-radimer.cz
X-WR-CALDESC:Akce na Společenský dům
REFRESH-INTERVAL;VALUE=DURATION:PT1H
X-Robots-Tag:noindex
X-PUBLISHED-TTL:PT1H
BEGIN:VTIMEZONE
TZID:UTC
BEGIN:STANDARD
TZOFFSETFROM:+0000
TZOFFSETTO:+0000
TZNAME:UTC
DTSTART:20260101T000000
END:STANDARD
END:VTIMEZONE
BEGIN:VEVENT
DTSTART;VALUE=DATE:20260704
DTEND;VALUE=DATE:20260705
DTSTAMP:20260425T114811
CREATED:20250822T080844Z
LAST-MODIFIED:20250822T080844Z
UID:783-1783123200-1783209599@www.spolecenskydum-radimer.cz
SUMMARY:Soukromá akce salónek
DESCRIPTION:
URL:https://www.spolecenskydum-radimer.cz/event/soukroma-akce-salonek-22/
END:VEVENT
BEGIN:VEVENT
DTSTART;VALUE=DATE:20260711
DTEND;VALUE=DATE:20260712
DTSTAMP:20260425T114811
CREATED:20251217T103750Z
LAST-MODIFIED:20251217T103750Z
UID:1143-1783728000-1783814399@www.spolecenskydum-radimer.cz
SUMMARY:Soukromá akce sál\, salonek- svatba
DESCRIPTION:
URL:https://www.spolecenskydum-radimer.cz/event/soukroma-akce-sal-salonek-svatba-2/
END:VEVENT
BEGIN:VEVENT
DTSTART;VALUE=DATE:20260718
DTEND;VALUE=DATE:20260719
DTSTAMP:20260425T114811
CREATED:20250822T080909Z
LAST-MODIFIED:20250822T080909Z
UID:785-1784332800-1784419199@www.spolecenskydum-radimer.cz
SUMMARY:Soukromá akce salónek
DESCRIPTION:
URL:https://www.spolecenskydum-radimer.cz/event/soukroma-akce-salonek-23/
END:VEVENT
BEGIN:VEVENT
DTSTART;TZID=UTC:20260724T080000
DTEND;TZID=UTC:20260726T170000
DTSTAMP:20260425T114811
CREATED:20250822T080958Z
LAST-MODIFIED:20250822T080958Z
UID:787-1784880000-1785085200@www.spolecenskydum-radimer.cz
SUMMARY:Pouťový víkend
DESCRIPTION:
URL:https://www.spolecenskydum-radimer.cz/event/poutovy-vikend/
END:VEVENT
END:VCALENDAR